BEGIN:VCALENDAR
VERSION:2.0
PRODID:-//AudioTheme 3.0.2
BEGIN:VEVENT
UID:urn:uuid:4ba6a513-b240-4fbf-ba5b-e6d421f99569
URL:https://www.aaronclift.com/events/dozen-street-show-august-11-2016/
DTSTART;TZID=GMT:20160812T003000
SUMMARY:Dozen Street Show: August 11, 2016
DESCRIPTION:Show with Gypsy\, Mach Three\, and Mount Pressmore.  21 and up.
LOCATION:Dozen Street\, 1808 East 12th Street\, Austin\, TX\, United States\, 78702
END:VEVENT
END:VCALENDAR
