BEGIN:VCALENDAR
VERSION:2.0
PRODID:-//AudioTheme 3.0.2
BEGIN:VEVENT
UID:urn:uuid:1e0e9519-cf54-4446-973d-778fef08cbda
URL:https://www.aaronclift.com/events/kick-butt-coffee-show-august-27-2016/
DTSTART;TZID=GMT:20160828T030000
SUMMARY:Kick Butt Coffee Show: August 27, 2016
DESCRIPTION:Show with Herd of Instinct.  All ages.
LOCATION:Kick Butt Coffee\, 5775 Airport Blvd\, Austin\, TX\, United States\, 78752
END:VEVENT
END:VCALENDAR
