BEGIN:VCALENDAR
VERSION:2.0
PRODID:-//AudioTheme 3.0.2
BEGIN:VEVENT
UID:urn:uuid:c7be5272-5b44-4b91-ab4e-e2e9ca9f174a
URL:https://www.aaronclift.com/events/kvrx-fm-local-live-show-october-9-2016/
DTSTART;TZID=GMT:20161010T030000
SUMMARY:KVRX FM Local Live Show: October 9, 2016
DESCRIPTION:In-studio performance on 91.7 KVRX Austin's radio show\, Local Live.
LOCATION:KVRX\, 2500 Whitis Avenue\, Austin\, TX\, United States\, 78705
END:VEVENT
END:VCALENDAR
