BEGIN:VCALENDAR
VERSION:2.0
PRODID:-//AudioTheme 3.0.2
BEGIN:VEVENT
UID:urn:uuid:58768191-fd8a-426d-a074-e493bf839ec8
URL:https://www.aaronclift.com/events/voyager-festival-2016-show-at-spiderhouse-ballroom-september-17-2016/
DTSTART;TZID=GMT:20160917T220000
SUMMARY:Voyager Festival 2016 Show at Spiderhouse Ballroom: September 17, 2016
DESCRIPTION:Voyager Festival 2016.  All ages.
LOCATION:Spider House Ballroom\, 2906 Fruth Street\, Austin\, TX\, United States\, 78705
END:VEVENT
END:VCALENDAR
